BEGIN:VCALENDAR
VERSION:2.0
PRODID:icalendar-ruby
CALSCALE:GREGORIAN
METHOD:PUBLISH
BEGIN:VEVENT
DTSTAMP:20260419T164218Z
UID:6-252435@lowerthreeruns.org
DTSTART:20260927T134500Z
DTEND:20260927T144500Z
CLASS:PUBLIC
CREATED:20260419T120646
DESCRIPTION:
LAST-MODIFIED:20260419T120646
LOCATION:Lower Three Runs Baptist Church
SUMMARY:Sunday Worship
URL;VALUE=URI:https://www.lowerthreeruns.org/events/sunday-worship--6/2026-
 09-27
ATTACH;FILENAME=IMG_0279.jpeg;FMTTYPE=image/jpeg:https://dq5pwpg1q8ru0.clou
 dfront.net/2023/06/09/11/14/51/289b47db-8c63-499b-bb38-77e8689d674f/IMG_02
 79.jpeg
END:VEVENT
END:VCALENDAR
